BEGIN:VCALENDAR
VERSION:2.0
PRODID:-//Starks Insights`s Site - ECPv6.15.20//NONSGML v1.0//EN
CALSCALE:GREGORIAN
METHOD:PUBLISH
X-ORIGINAL-URL:https://starksinsights.com
X-WR-CALDESC:Events for Starks Insights`s Site
REFRESH-INTERVAL;VALUE=DURATION:PT1H
X-Robots-Tag:noindex
X-PUBLISHED-TTL:PT1H
BEGIN:VTIMEZONE
TZID:Europe/Madrid
BEGIN:DAYLIGHT
TZOFFSETFROM:+0100
TZOFFSETTO:+0200
TZNAME:CEST
DTSTART:20250330T010000
END:DAYLIGHT
BEGIN:STANDARD
TZOFFSETFROM:+0200
TZOFFSETTO:+0100
TZNAME:CET
DTSTART:20251026T010000
END:STANDARD
BEGIN:DAYLIGHT
TZOFFSETFROM:+0100
TZOFFSETTO:+0200
TZNAME:CEST
DTSTART:20260329T010000
END:DAYLIGHT
BEGIN:STANDARD
TZOFFSETFROM:+0200
TZOFFSETTO:+0100
TZNAME:CET
DTSTART:20261025T010000
END:STANDARD
BEGIN:DAYLIGHT
TZOFFSETFROM:+0100
TZOFFSETTO:+0200
TZNAME:CEST
DTSTART:20270328T010000
END:DAYLIGHT
BEGIN:STANDARD
TZOFFSETFROM:+0200
TZOFFSETTO:+0100
TZNAME:CET
DTSTART:20271031T010000
END:STANDARD
END:VTIMEZONE
BEGIN:VEVENT
DTSTART;TZID=Europe/Madrid:20260412T160000
DTEND;TZID=Europe/Madrid:20260412T190000
DTSTAMP:20260421T161300
CREATED:20260313T165836Z
LAST-MODIFIED:20260315T152412Z
UID:10000014-1776009600-1776020400@starksinsights.com
SUMMARY:Connections & Brunch · Beyond Words
DESCRIPTION:CONNECTIONS & BRUNCH\nGestalt to connect\, share\, and enjoy. \nSpecial Edition: Beyond Words\nWhat happens when spoken language is no longer the center? \n\n📅 Date: April 12\n⏰ Time: 4:00 PM – 7:00 PM\n📍 Location: Annora Center – Calle Mare de Déu del Coll 41\, Barcelona\n💰 Payment: 20€  – Bizum – Booking & Info via WhatsApp: 692 188 927 \n\nWhen relating to others\, speech usually takes all the center stage. This leaves in the background relational languages that we all know\, which are the ones that truly connect us with one another. \nIn this Relational Laboratory\, we propose lowering the volume of the mind and speech. We will explore universal languages that don’t need words—such as presence\, movement\, gaze\, and more. Experiencing a cleaner\, deeper\, and more authentic connection with others. \n\nSpecial Guest from USA\nDavid\, founder of Starks Insights\, is traveling from the USA to co-facilitate this gathering. \nBilingual (EN / ES)\nOn-the-spot translation will be provided when necessary.\n \nThe event flow:\n1. Gestalt Dynamics (2 hours)\nWe will step out of autopilot to the here and now. Through gestalt guided dynamics\, speech will take a back seat to give priority to a deeper and more authentic way of relating. (No previous experience required\, just curiosity). \n2. Brunch (1 hour):\nWe will close by enjoying a relaxed snack together.\n \nLIMITED SPOTS. BOOK YOURS\nTo secure your attendance and resolve any questions\, write to us directly:\n📲 WhatsApp: 692 188 927\n\nBook via WhatsApp\n \nJoin the Awareness! ✨ \n\n\n  \n \n\n\n\nHosted by David Kelton Starks\nGestalt Therapeutic Coach | Crisis & Systems Consultant \nLinkedin\nInstagram\nFacebook\nEmail: davidkstarkssr@gmail.com\nPhone: +1 (202) 221-1514 \n\n\n  \n\n\n  \n \n\n\n\nHosted by Pep Teixidor\nGestalt Therapist | Mindfulness \nInstagram \nEmail: pepteixidor@gmail.com\nPhone: 676 139 782 \n\n\n  \n\n\n  \n \n\n\nHosted by Gemma Aragonés\nGestalt therapist | Coach | Actress and theatre facilitator \nInstagram\nFacebook\n\nPhone: 692 188 927 \n\n\n 
URL:https://starksinsights.com/event/gestalt-workshop-barcelona/
LOCATION:Annora\, C/ Mare de Deu del Coll 41\, Barcelona\, Barcelona\, 08023\, Spain
CATEGORIES:Barcelona
ATTACH;FMTTYPE=image/webp:https://starksinsights.com/wp-content/uploads/IMG-final-1.webp
END:VEVENT
BEGIN:VEVENT
DTSTART;TZID=Europe/Madrid:20260301T170000
DTEND;TZID=Europe/Madrid:20260301T200000
DTSTAMP:20260421T161300
CREATED:20260202T170123Z
LAST-MODIFIED:20260223T155945Z
UID:10000013-1772384400-1772395200@starksinsights.com
SUMMARY:Connections & Brunch
DESCRIPTION:Workshop Details: \n📅 Date: March 1th\n⏰ Time: 5:00 PM – 8:00 PM\n📍 Location: Annora – Calle Mare de Déu del Coll 41\, Barcelona\n💰 Payment: 20€ \nGestalt to connect\, share and enjoy. \nConnections & Brunch is a 3h workshop with an included final Brunch\, designed to create an space where you can connect meaningfully with others and with yourself while enjoying the moment. \nWe’ll start with Gestalt-based dynamics and games\, helping you be fully present\, connect authentically with others\, and create the perfect atmosphere for genuine bonding. \nFollowing the dynamics\, we’ll enjoy a Brunch\, a relaxed opportunity to continue engaging and building relationships in a warm\, open environment. \nGestalt is a powerful approach that encourages personal responsibility and self-awareness. By being present and mindful of our current state\, we deepen our understanding of ourselves and others\, allowing for authentic connections. \nMake your reservation through WhatsApp: 692188927 \nJOIN THE AWARENESS!
URL:https://starksinsights.com/event/connections-brunch-2/
LOCATION:Annora\, C/ Mare de Deu del Coll 41\, Barcelona\, Barcelona\, 08023\, Spain
CATEGORIES:Barcelona
ATTACH;FMTTYPE=image/webp:https://starksinsights.com/wp-content/uploads/Conexiones-Brunchlanding-page.webp
END:VEVENT
BEGIN:VEVENT
DTSTART;TZID=Europe/Madrid:20260125T170000
DTEND;TZID=Europe/Madrid:20260125T200000
DTSTAMP:20260421T161300
CREATED:20251209T141143Z
LAST-MODIFIED:20260114T184658Z
UID:10000011-1769360400-1769371200@starksinsights.com
SUMMARY:A New Beginning: Gestalt for the New Year 2026 & Brunch
DESCRIPTION:Workshop Details: \n📅 Date: January 25th\n⏰ Time: 17:00 – 20:00 (please arrive 10 minutes early)\n📍 Location: Annora – C/ Mare de Deu del Coll 25\, Barcelona\, Metro Lesseps\n💰 Payment: 20€ – Bizum or cash\n🥐 Brunch: We’ll end with a brunch — bring something to share. \n📲 Reservation via WhatsApp: 692188927 \n  \nStep Into the New Year With Clarity and Confidence \nWe often imagine a version of ourselves capable of reaching its fullest potential\, but this version can feel distant. What if it’s not as far away as it seems? \nIn this “Relational Laboratory\,” we’ll slow down\, reflect\, and connect with ourselves and others. \nWe’ll approach resolutions by connecting with the version of yourself that can achieve any goal through meditation\, movement\, and group dynamics. By aligning with this authentic\, capable self\, you’ll break free from the mindset of ‘I’m not there yet’ and realize how close you truly are. \nThrough experiments rooted in Gestalt and inspired by Buddhist philosophy\, you’ll discover that transformation doesn’t come from forcing change but from deeply connecting with your current state. \nFollowing the dynamics\, we’ll enjoy a Brunch\, a relaxed opportunity to continue engaging and building relationships in a warm\, open environment. \nMake your reservation through WhatsApp: 692188927 \nJOIN THE AWARENESS!
URL:https://starksinsights.com/event/a-new-beginning-gestalt-for-the-new-year-2026/
LOCATION:Annora\, C/ Mare de Deu del Coll 41\, Barcelona\, Barcelona\, 08023\, Spain
CATEGORIES:Barcelona Social,Social
ATTACH;FMTTYPE=image/webp:https://starksinsights.com/wp-content/uploads/New-Year-2026-Workshop.webp
END:VEVENT
END:VCALENDAR